{"text_format":"2","workbook":"xlsx","n_sheets":3,"sheets":["현황","12년예산편성기초자료","Sheet2"],"not_rendered":{"charts":6,"images":0,"macros":0,"external_links":0,"defined_names":2,"comments":1,"pivot_tables":0},"unopened":[],"bounds":{"document_bytes":16777216,"sheet_cells":100000,"run_cost":"one","rows_first":2000,"rows_last":500,"rows_between":2000,"halvings":0,"cell_chars":16384,"cell_head_chars":4096},"cells_cut":0,"cells_raw":0,"read":"whole","date_system":"1900"}

{"sheet":"현황","index":0,"n_rows":69,"n_cols":2,"rows_kept":69,"cut":false,"hidden":false,"merged":[]}
[]
["연도","과  제  명"]
[2008,"전력시장 종합분석 시스템의 진단기법 정립에 관한 연구"]
[null,"전력시장 여건변화를 반영한 전력수급계획 개선방안 연구"]
[null,"전력수요예측시 수요관리 반영방법 개선방안 연구"]
[null,"직접구매 활성화를 위한 직접구매제도 개선방안 검토"]
[null,"선형계획법 기반 전력계통계획 최적화 전산모형 개발"]
[null,"스마트그리드 기반 시장환경에서의 전력거래소 대응전략 로드맵"]
[null,"휴전검토 종합시스템 개발"]
[null,"전력시장의 효율성 평가방법 연구"]
[null,"광역정전 예방을 위한 제어전략 수립에 관한 연구"]
[2009,"전력계통 Data 정도 향상을 위한 토폴로지 보정방안 연구"]
[null,"비용함수가 발전계획에 미치는 영향 분석과 함수산정 개선 및 적용방안에 관한 연구"]
[null,"합리적이고 공정한 SMP보정계수 산정기준 정립에 관한 연구"]
[null,"시장 참여자의 규칙 위반시 제재방안에 관한 연구"]
[null,"계통기여도에 기반한 무효전력서비스 평가 및 예비력 확보기준 개발"]
[null,"공급신뢰도 기준(LOLP) 재정립 연구"]
[null,"제2단계 배출권 모의거래 자문,분석 및 해외 시장조사에 관한 연구"]
[null,"CBP전력시장 경쟁강화를 위한 시장제도 선진화"]
[null,"전력거래소의 스마트그리드 도입을 위한 제반환경 구축방안 연구"]
[null,"KPX 비전 및 중장기 경영전략 재정립"]
[2010,"단기 전력수요 예측 기법 및 적용방안에 관한 연구"]
[null,"신재생에너지 공급의무화제도(RPS) 도입이 전력수급기본계획에 미치는 영향 분석"]
[null,"제주지역 운영예비력 산정기준 연구"]
[null,"전력계통 안정도 해석 정확도 향상을 위한 부하모델 재구축"]
[null,"기저발전기 및 신재생전원 확대에 따른 계통안정운영 방안에 관한 연구"]
[null,"지역별 적정 무효전력 예비력 산정에 관한 연구"]
[null,"스마트그리드 기반 계통운영 및 정보전달 체계 정립에 관한 연구"]
[2011,"계통규모 확대에 따른 적정 공급 및 운영예비력 산정에 대한 연구"]
[null,"비상시 비중앙급전발전기의 합리적 계통운영 방안에 대한 연구"]
[null,"수요예측결과 적정성 검증 기준 및 신뢰구간 설정 기준에 관한 연구"]
[null,"스마트그리드에서 DR이 장기전력수요에 미치는 영향 연구"]
[null,"중장기 인력운영 전략체계 수립 및 개발"]
[null,"발전기 과도안정도 개선을 위한 제어기술 연구"]
[null,"전력계통 신뢰도 향상을 통한 취약계통 구성방안 수립에 관한 연구"]
[null,"배출권 거래제 제정에 따른 전력부문 대응방안 기초연구"]
[null,"송전선로 재폐로계전기 운영방안 적정성 확립에 관한 연구"]
[null,"중장기 전력소매경쟁에 대비한 국내외 사례조사에 관한 기초 연구"]
[null,"전력시장에서 전력수급안정을 위한 가격제도 정립에 관한 연구"]
[null,"스마트그리드 구축시 기반시설 정보보안 정책에 관한 연구"]
[null,"실시간 요금제의 단계적 도입방안에 대한 연구"]
[null,"SG 사업 활성화를 위한 기반구축사업자의 역할 및 유관 법제도 개선방안 연구"]
[null,"전력계통 해석용 시뮬레이터(RTDS)를 활용한 전계통 정전시 복구계획 모의"]
[null,"제주계통 환경변화를 고려한 적정 부하차단방식에 관한 연구"]
[null,"전력계통자료 취득용 원격소장치 관리체계 개선에 관한 연구"]
[2012,"전력 계통 과도안정도 해석 및 검토주기 기준 수립"]
[null,"전력계통 고장전류 해석기준 수립"]
[null,"계통신뢰도를 고려한 양수발전기 운영방안에 관한 연구"]
[null,"CBP시장에서의 송전손실계수 산정결과 적정성 분석 및 송전손실계수 변화요인 연구"]
[null,"발전기 기동비용 산정 및 적용기준 개선방안 연구"]
[null,"민간 석탄발전기 전력시장 진입에 따른 합리적인 석탄발전기 정산방안 연구"]
[null,"단기 전력수요예측 시의 에너지 전환수요 적용방안 연구"]
[null,"자본자산가격결정모형을 이용한 한전과 발전자회사 위험차이 산정방안 연구"]
[null,"Smart Grid 활성화 및 전력수급 안정을 위한 BESS 도입방안 연구"]
[null,"전력산업 환경변화를 고려한 전력거래소 중장기 발전방안 연구"]
[null,"제2의 9.15순환단전을 방지하기 위한 종합대책수립에 관한 연구"]
[null,"스마트그리드 환경에서 가상발전기(Virtual Power Plant)의 전력시장 참여를 위한  제도적∙기술적 선결사항에 관한 연구"]
[2013,"제6차 전력수급 기본계획의 수요관리 정책방향 수립에 관한 연구"]
[null,"EMS〜RTU구간의 시리얼 기반 DNP통신 보안성 확보방안 및 인터넷 기반 프로토콜 수용에 관한 연구"]
[null,"CBP 전력시장에서 수요자원 반영 방안에 관한 연구"]
[null,"전력계통 규모 확장에 따른 154kV 계통기준전압 적정성에 관한 연구"]
[null,"전문가 기법을 이용한 주·월간 전력수요 예측 기법 및 적용 방안에 관한 연구"]
[null,"신재생에너지 설비의 대규모화에 따른 수급계획 수립 방안 연구"]
[null,"미래 전원믹스 전략 수립을 위한 전원별 히든 코스트(Hidden Cost) 적용방안에 관한 연구"]
[null,"비중앙급전발전기 공급능력 산정에 관한 연구"]
[null,"과도안정도 확보용 고장파급방지장치에 의한 발전차단 한계량 및 기준 정립에 관한 연구"]
[null,"판매사업자 진입 활성화를 위한 법.제도 개선방안 연구"]
[null,"용량요금제도 개선 및 용량시장 도입에 관한 연구"]
[null,"공공기관 수요관리 활성화 방안 연구"]

{"sheet":"12년예산편성기초자료","index":1,"n_rows":48,"n_cols":9,"rows_kept":48,"cut":false,"hidden":false,"merged":[]}
["2012년 신규"]
[null,"과  제  명","구분","시작","종료","수행부서","총예산(천원)","'12년예산","비고"]
[null,"전력계통 고장전류 해석기준 수립","위탁(공동)","'12.01.01.","'12.12.31.","계통기술팀",134979,134979,"'12년 신규"]
[null,"고장파급방지장치 적용기준 정립에 관한 연구","위탁(공동)","'12.05.01.","'13.04.30.","계통기술팀",83493,68076,"'12년 신규"]
[null,"첨두부하 경감 및 부하평준화용 에너지저장장치 용량산정 기법개발 연구","위탁(공동)","'12.01.","'12.12.","전력기술팀",100000,20000,"'12년 신규"]
[null,"국내외 수요반응 현황 및 부하 감축량 평가기법 개발","위탁","'12.03.01.","'13.08.30.","수요시장팀",113506,113506,"'12년 신규"]
[null,"고장전류 및 과부하 제약을 고려한 전력계통 재구성 알고리즘 개발","위탁(공동)","'12.03.","'13.08.","송전운영계획팀",126328,70181,"'12년 신규"]
[null,"전력수급 비상하에서 배전전압 조정시 전력계통 영향평가","위탁","'12.03.","'12.12.","수급계획팀",210141,210141,"'12년 신규"]
[null,"대기전력이 전력수요에 미치는 영향","위탁","'12.05.","'12.10.","수급계획팀",103076,103076,"'12년 신규"]
[null,"발전기 기동비용 산정 및 적용기준 개선방안 연구","위탁(공동)","'12.10.","'13.09.","시장운영팀",91041,91041,"'12년 신규"]
[null,"SG환경하에서 VPP전력시장 참여를 위한 선결과제 연구","위탁","'12.","'12.","스마트그리드팀",97195,97195,"'12년 신규"]
[{"$nulls":5},"합계",{"$f":"SUM(G3:G11)","v":1059759},{"$f":"SUM(H3:H11)","v":908195}]
[]
["2012년 계속 / 2012년 종료"]
[null,"과  제  명","구분","시작","종료","수행부서","총예산(천원)","'12년예산","비고"]
[null,"전력계통 안정도 해석 정확도 향상을 위한 부하모델 재구축","위탁(공동)","'10.07.23","'12.01.22","계통기술팀",208325,37203]
[null,"지역별 적정 무효전력 예비력 산정에 관한 연구","위탁(공동)","'10.12.10","'12.06.09","계통기술팀",150786,43075]
[null,"스마트그리드에서 DR이 장기전력수요에 미치는 영향 연구","위탁","'11.04.19","'12.01.18","수요예측팀",76669,25557,"'11년 신규"]
[null,"발전기 과도안정도 개선을 위한 제어기술 연구","위탁(공동)","'11.04.13","'12.04.12","계통기술팀",136581,29430,"'11년 신규"]
[null,"전력계통 신뢰도 향상을 위한 취약계통 계통구성방안 수립에 관한 연구","위탁(공동)","'11.04.11","'12.04.10","계통기술팀",98340,22570,"'11년 신규"]
[null,"중장기 전력소매경쟁에 대비한 국내외 사례조사에 관한 기초 연구","위탁(공동)","'11.05.18","'12.08.17","미래전략팀",383337,147605,"'11년 신규"]
[null,"스마트그리드 구축시 기반시설 정보보안 정책에 관한 연구","위탁(공동)","'11.09.21","'12.09.20","IT총괄보호팀",131148,85136,"'11년 신규"]
[null,"실시간 요금제의 단계적 도입방안에 대한 연구","위탁(공동)",null,null,"스마트그리드팀",165757,165757,"협약미체결"]
[null,"SG 사업 활성화를 위한 기반구축사업자의 역할 및 유관 법제도 개선방안 연구","위탁(공동)",null,null,"스마트그리드팀",95300,95300,"협약미체결"]
[null,"전력계통 해석용 시뮬레이터(RTDS)를 활용한 전계통 정전시 복구계획 모의",null,null,null,"송전운영계획팀",29185,29185,"협약미체결"]
[null,"제주계통 환경변화를 고려한 적정 부하차단방식에 관한 연구",null,"'11.10.14","'12.10.13","계통보호팀",89609,78548]
[null,"전력계통자료 취득용 원격소장치 관리체계 개선에 관한 연구",null,null,null,"계통시스템팀",119778,119778,"협약미체결"]
[null,"전기용 냉난방기기 보급률·사용행태 조사 및 이를 이용한 수요예측 방법 연구","수탁","'10.06.01","'12.02.29","수요예측팀"]
[null,"장기 수요예측 정확도 향상을 위한 개선방안 연구","수탁","'11.04.","'12.01.","수요예측팀",null,null,"'11년 신규"]
[null,"전력수급계획 수립을 위한 기술지침 개발(3차년도 연구)","수탁","'11.04.01","'12.03.31","전력계획팀",null,null,"'11년 신규"]
[{"$nulls":5},"합계",{"$f":"SUM(G16:G30)","v":1684815},{"$f":"SUM(H16:H30)","v":879144}]
[]
["2012년 계속 / 2013년 종료"]
[null,"과  제  명","구분","시작","종료","수행부서","총예산(천원)","'12년예산","비고"]
[null,"송전선로 재폐로계전기 운영방안 적정성 확립에 관한 연구","위탁(공동)","'11.05.16","'13.01.15","계통보호팀",268504,128240,"'11년 신규"]
[null,"실시간 전력수요자원 운영시스템 개발","수탁","'08.12.","'13.11.","수요시장팀"]
[null,"스마트그리드 실증단지 구축사업(Smart Electricity Service 분야)","수탁","'09.12.01","'13.05.31","시장기획팀"]
[{"$nulls":5},"합계",{"$f":"SUM(G35:G37)","v":268504},{"$f":"SUM(H35:H37)","v":128240}]
[]
["2012년 계속 / 2013년 계속"]
[null,"과  제  명","구분","시작","종료","수행부서","총예산(천원)","'12년예산","비고"]
[null,"광역정전 제로화를 위한 Synchro-Phasor 감시 및 제어기술 개발","수탁","'10.06.","'14.05.","계통기술팀"]
[null,"그리드 적응형 해상풍력 발전단지 전력시스템 설계 및 제어 기술개발","수탁","'11.06.","'16.05.","계통기술팀",null,null,"'11년 신규"]
[null,"신재생에너지 연계형 ㎿급 리튬이차전지시스템 운용기술 개발","수탁","'11.06.","'14.05.","계통기술팀",null,null,"'11년 신규"]
[{"$nulls":5},"합계",{"$f":"SUM(G42:G44)","v":0},{"$f":"SUM(H42:H44)","v":0}]
[]
[{"$nulls":7},4400000]
[{"$nulls":7},{"$f":"H47-H31-H38","v":3392616}]

{"sheet":"Sheet2","index":2,"n_rows":44,"n_cols":14,"rows_kept":44,"cut":false,"hidden":false,"merged":[]}
[null,"수행방법"]
["위탁","위탁","수탁","자체","합계"]
[null,{"$f":"COUNTIF(현황!#REF!,B2)","v":{"$error":"#REF!"}},{"$f":"COUNTIF(현황!#REF!,C2)","v":{"$error":"#REF!"}},{"$f":"COUNTIF(현황!#REF!,D2)","v":{"$error":"#REF!"}},{"$f":"SUM(B3:D3)","v":{"$error":"#REF!"}}]
[null,{"$f":"B3/E3","v":{"$error":"#REF!"}}]
[null,"연구기간"]
[null,"1년 미만","1년 이상 2년 미만","2년 이상 3년 미만","3년이상","합계"]
["전체",{"$f":"COUNTIF(현황!#REF!,\"<12\")","v":{"$error":"#REF!"}},{"$f":"COUNTIF(현황!#REF!,\"<24\")-B7","v":{"$error":"#REF!"}},{"$f":"COUNTIF(현황!#REF!,\"<36\")-B7-C7","v":{"$error":"#REF!"}},{"$f":"COUNTIF(현황!#REF!,\">=36\")","v":{"$error":"#REF!"}},{"$f":"SUM(B7:E7)","v":{"$error":"#REF!"}}]
["위탁",{"$f":"COUNTIFS(현황!#REF!,\"위탁\",현황!#REF!,\"<12\")","v":{"$error":"#REF!"}},{"$f":"COUNTIFS(현황!#REF!,\"위탁\",현황!#REF!,\"<24\")-B8","v":{"$error":"#REF!"}},{"$f":"COUNTIFS(현황!#REF!,\"위탁\",현황!#REF!,\"<36\")-B8-C8","v":{"$error":"#REF!"}},{"$f":"COUNTIFS(현황!#REF!,\"위탁\",현황!#REF!,\">=36\")","v":{"$error":"#REF!"}},{"$f":"SUM(B8:E8)","v":{"$error":"#REF!"}}]
[]
[null,"연구기간"]
[null,"1년 미만","1년 이상 2년 미만","2년 이상 3년 미만","3년이상","합계"]
[null,{"$f":"B7/($B$7+$C$7+$D$7+$E$7)","v":{"$error":"#REF!"}},{"$f":"C7/($B$7+$C$7+$D$7+$E$7)","v":{"$error":"#REF!"}},{"$error":"#REF!"},{"$error":"#REF!"},{"$f":"SUM(B12:E12)","v":{"$error":"#REF!"}}]
[null,{"$f":"B8/F8","v":{"$error":"#REF!"}},{"$f":"C8/F8","v":{"$error":"#REF!"}}]
[]
[]
[null,"위탁 연구기관"]
[null,"대학교","연구기관","기타","합계"]
[null,{"$f":"COUNTIF(현황!#REF!,Sheet2!B17)","v":{"$error":"#REF!"}},{"$f":"COUNTIF(현황!#REF!,Sheet2!C17)","v":{"$error":"#REF!"}},{"$f":"COUNTIF(현황!#REF!,Sheet2!D17)","v":{"$error":"#REF!"}},{"$f":"SUM(B18:D18)","v":{"$error":"#REF!"}}]
[null,{"$f":"B18/E18","v":{"$error":"#REF!"}},{"$f":"C18/E18","v":{"$error":"#REF!"}}]
[]
[null,"연구분야"]
[null,"전력계획","전력시장","계통운영","정보기술","기타","합계"]
[null,{"$f":"COUNTIF(현황!#REF!,Sheet2!B22)","v":{"$error":"#REF!"}},{"$f":"COUNTIF(현황!#REF!,Sheet2!C22)","v":{"$error":"#REF!"}},{"$f":"COUNTIF(현황!#REF!,Sheet2!D22)","v":{"$error":"#REF!"}},{"$f":"COUNTIF(현황!#REF!,Sheet2!E22)","v":{"$error":"#REF!"}},{"$f":"COUNTIF(현황!#REF!,Sheet2!F22)","v":{"$error":"#REF!"}},{"$f":"SUM(B23:F23)","v":{"$error":"#REF!"}},{"$f":"H24/G23","v":{"$error":"#REF!"}}]
[{"$nulls":7},{"$f":"B23+C23+D23","v":{"$error":"#REF!"}}]
[]
[null,"연구비"]
[null,"1억미만","1악-2억미만","2억이상","합계"]
[null,{"$f":"COUNTIFS(현황!#REF!,\"위탁\",현황!#REF!,\"<1\")+COUNTIFS(현황!#REF!,\"자체\",현황!#REF!,\"<1\")","v":{"$error":"#REF!"}},{"$f":"COUNTIFS(현황!#REF!,\"위탁\",현황!#REF!,\"<2\")-B28+COUNTIFS(현황!#REF!,\"자체\",현황!#REF!,\"<2\")","v":{"$error":"#REF!"}},{"$f":"COUNTIFS(현황!#REF!,\"위탁\",현황!#REF!,\">=2\")+COUNTIFS(현황!#REF!,\"자체\",현황!#REF!,\">=2\")","v":{"$error":"#REF!"}},{"$f":"SUM(B28:D28)","v":{"$error":"#REF!"}}]
[]
[null,"'01년","'02년","'03년","'04년","'05년","'06년","'07년","'08년","'09년","'10년","'11년","합계"]
["건수",15,3,6,11,7,19,18,13,14,10,26,{"$f":"SUM(B31:L31)","v":142}]
["위탁",15,3,6,9,5,15,11,9,10,7,18,{"$f":"SUM(B32:L32)","v":108}]
["수탁","-","-","-",2,2,4,4,4,4,3,8,{"$f":"SUM(B33:L33)","v":31}]
["자체","-","-","-","-","-","-",3,"-","-","-","-",3,{"$f":"M32+M33+M34","v":142}]
["예산(백만원)",3944,4612,1829,1527,1862,2421,2121,2038,2074,4612,3268,"백만원"]
["건당예산",{"$f":"B35/B31","v":262.93333333333334},{"$f":"C35/C31","v":1537.3333333333333},{"$f":"D35/D31","v":304.83333333333331},{"$f":"E35/E31","v":138.81818181818181},{"$f":"F35/F31","v":266},{"$f":"G35/G31","v":127.42105263157895},{"$f":"H35/H31","v":117.83333333333333},{"$f":"I35/I31","v":156.76923076923077},{"$f":"J35/J31","v":148.14285714285714},{"$f":"K35/K31","v":461.2},{"$f":"L35/L31","v":125.69230769230769}]
["총연구기간(개월)",{"$f":"현황!#REF!+현황!#REF!+현황!#REF!+현황!#REF!+현황!#REF!+현황!#REF!+현황!#REF!+현황!#REF!+현황!#REF!+현황!#REF!+현황!#REF!+현황!#REF!+현황!#REF!+현황!#REF!+현황!#REF!","v":{"$error":"#REF!"}},{"$f":"현황!#REF!+현황!#REF!+현황!#REF!","v":{"$error":"#REF!"}},{"$f":"현황!#REF!+현황!#REF!+현황!#REF!+현황!#REF!+현황!#REF!+현황!#REF!","v":{"$error":"#REF!"}},{"$f":"현황!#REF!+현황!#REF!+현황!#REF!+현황!#REF!+현황!#REF!+현황!#REF!+현황!#REF!+현황!#REF!+현황!#REF!+현황!#REF!+현황!#REF!","v":{"$error":"#REF!"}},{"$f":"현황!#REF!+현황!#REF!+현황!#REF!+현황!#REF!+현황!#REF!+현황!#REF!+현황!#REF!","v":{"$error":"#REF!"}},{"$f":"현황!#REF!+현황!#REF!+현황!#REF!+현황!#REF!+현황!#REF!+현황!#REF!+현황!#REF!+현황!#REF!+현황!#REF!+현황!#REF!+현황!#REF!+현황!#REF!+현황!#REF!+현황!#REF!+현황!#REF!+현황!#REF!+현황!#REF!+현황!#REF!+현황!#REF!","v":{"$error":"#REF!"}},{"$f":"현황!#REF!+현황!#REF!+현황!#REF!+현황!#REF!+현황!#REF!+현황!#REF!+현황!#REF!+현황!#REF!+현황!#REF!+현황!#REF!+현황!#REF!+현황!#REF!+현황!#REF!+현황!#REF!+현황!#REF!+현황!#REF!+현황!#REF!+현황!#REF!","v":{"$error":"#REF!"}},{"$f":"현황!#REF!+현황!#REF!+현황!#REF!+현황!#REF!+현황!#REF!+현황!#REF!+현황!#REF!+현황!#REF!+현황!#REF!+현황!#REF!+현황!#REF!+현황!#REF!+현황!#REF!","v":{"$error":"#REF!"}},{"$f":"현황!#REF!+현황!#REF!+현황!#REF!+현황!#REF!+현황!#REF!+현황!#REF!+현황!#REF!+현황!#REF!+현황!#REF!+현황!#REF!+현황!#REF!+현황!#REF!+현황!#REF!+현황!#REF!","v":{"$error":"#REF!"}},{"$f":"현황!#REF!+현황!#REF!+현황!#REF!+현황!#REF!+현황!#REF!+현황!#REF!+현황!#REF!+현황!#REF!+현황!#REF!+현황!#REF!","v":{"$error":"#REF!"}},{"$f":"현황!#REF!+현황!#REF!+현황!#REF!+현황!#REF!+현황!#REF!+현황!#REF!+현황!#REF!+현황!#REF!+현황!#REF!+현황!#REF!+현황!#REF!+현황!#REF!+현황!#REF!+현황!#REF!+현황!#REF!+현황!#REF!+현황!#REF!+현황!#REF!+현황!#REF!+현황!#REF!+현황!#REF!+현황!#REF!+현황!#REF!+현황!#REF!+현황!#REF!+현황!#REF!","v":{"$error":"#REF!"}},{"$f":"SUM(B37:L37)","v":{"$error":"#REF!"}}]
["위탁",{"$f":"현황!#REF!+현황!#REF!+현황!#REF!+현황!#REF!+현황!#REF!+현황!#REF!+현황!#REF!+현황!#REF!+현황!#REF!+현황!#REF!+현황!#REF!+현황!#REF!+현황!#REF!+현황!#REF!+현황!#REF!","v":{"$error":"#REF!"}},{"$f":"현황!#REF!+현황!#REF!+현황!#REF!","v":{"$error":"#REF!"}},{"$f":"현황!#REF!+현황!#REF!+현황!#REF!+현황!#REF!+현황!#REF!+현황!#REF!","v":{"$error":"#REF!"}},{"$f":"현황!#REF!+현황!#REF!+현황!#REF!+현황!#REF!+현황!#REF!+현황!#REF!+현황!#REF!+현황!#REF!+현황!#REF!","v":{"$error":"#REF!"}},{"$f":"현황!#REF!+현황!#REF!+현황!#REF!+현황!#REF!+현황!#REF!","v":{"$error":"#REF!"}},{"$f":"현황!#REF!+현황!#REF!+현황!#REF!+현황!#REF!+현황!#REF!+현황!#REF!+현황!#REF!+현황!#REF!+현황!#REF!+현황!#REF!+현황!#REF!+현황!#REF!+현황!#REF!+현황!#REF!+현황!#REF!","v":{"$error":"#REF!"}},{"$f":"현황!#REF!+현황!#REF!+현황!#REF!+현황!#REF!+현황!#REF!+현황!#REF!+현황!#REF!+현황!#REF!+현황!#REF!+현황!#REF!+현황!#REF!","v":{"$error":"#REF!"}},{"$f":"현황!#REF!+현황!#REF!+현황!#REF!+현황!#REF!+현황!#REF!+현황!#REF!+현황!#REF!+현황!#REF!+현황!#REF!","v":{"$error":"#REF!"}},{"$f":"현황!#REF!+현황!#REF!+현황!#REF!+현황!#REF!+현황!#REF!+현황!#REF!+현황!#REF!+현황!#REF!+현황!#REF!+현황!#REF!","v":{"$error":"#REF!"}},{"$f":"현황!#REF!+현황!#REF!+현황!#REF!+현황!#REF!+현황!#REF!+현황!#REF!+현황!#REF!","v":{"$error":"#REF!"}},{"$f":"현황!#REF!+현황!#REF!+현황!#REF!+현황!#REF!+현황!#REF!+현황!#REF!+현황!#REF!+현황!#REF!+현황!#REF!+현황!#REF!+현황!#REF!+현황!#REF!+현황!#REF!+현황!#REF!+현황!#REF!+현황!#REF!+현황!#REF!+현황!#REF!","v":{"$error":"#REF!"}},{"$f":"SUM(B38:L38)","v":{"$error":"#REF!"}}]
["수탁","-","-","-",{"$f":"현황!#REF!+현황!#REF!","v":{"$error":"#REF!"}},{"$f":"현황!#REF!+현황!#REF!","v":{"$error":"#REF!"}},{"$f":"현황!#REF!+현황!#REF!+현황!#REF!+현황!#REF!","v":{"$error":"#REF!"}},{"$f":"현황!#REF!+현황!#REF!+현황!#REF!+현황!#REF!","v":{"$error":"#REF!"}},{"$f":"현황!#REF!+현황!#REF!+현황!#REF!+현황!#REF!","v":{"$error":"#REF!"}},{"$f":"현황!#REF!+현황!#REF!+현황!#REF!+현황!#REF!","v":{"$error":"#REF!"}},{"$f":"현황!#REF!+현황!#REF!+현황!#REF!","v":{"$error":"#REF!"}},{"$f":"현황!#REF!+현황!#REF!+현황!#REF!+현황!#REF!+현황!#REF!+현황!#REF!+현황!#REF!+현황!#REF!","v":{"$error":"#REF!"}},{"$error":"#REF!"}]
["자체","-","-","-","-","-","-",{"$f":"현황!#REF!+현황!#REF!+현황!#REF!","v":{"$error":"#REF!"}},"-","-","-","-",{"$error":"#REF!"},{"$f":"M38+M39+M40","v":{"$error":"#REF!"}}]
["건당연구기간(개월)",{"$f":"B37/B31","v":{"$error":"#REF!"}},{"$f":"C37/C31","v":{"$error":"#REF!"}},{"$error":"#REF!"},{"$error":"#REF!"},{"$error":"#REF!"},{"$error":"#REF!"},{"$error":"#REF!"},{"$error":"#REF!"},{"$error":"#REF!"},{"$error":"#REF!"},{"$error":"#REF!"},{"$f":"M37/M31","v":{"$error":"#REF!"}}]
["위탁",{"$f":"B38/B32","v":{"$error":"#REF!"}},{"$f":"C38/C32","v":{"$error":"#REF!"}},{"$error":"#REF!"},{"$error":"#REF!"},{"$error":"#REF!"},{"$error":"#REF!"},{"$error":"#REF!"},{"$error":"#REF!"},{"$error":"#REF!"},{"$error":"#REF!"},{"$error":"#REF!"},{"$error":"#REF!"}]
["수탁","-","-","-",{"$f":"E39/E33","v":{"$error":"#REF!"}},{"$error":"#REF!"},{"$error":"#REF!"},{"$error":"#REF!"},{"$error":"#REF!"},{"$error":"#REF!"},{"$error":"#REF!"},{"$error":"#REF!"},{"$error":"#REF!"}]
["자체","-","-","-","-","-","-",{"$error":"#REF!"},"-","-","-","-",{"$error":"#REF!"}]